BEGIN:VCALENDAR
VERSION:2.0
PRODID:-//bandliste-bremen.de - ECPv6.15.20//NONSGML v1.0//EN
CALSCALE:GREGORIAN
METHOD:PUBLISH
X-ORIGINAL-URL:https://bandliste-bremen.de
X-WR-CALDESC:Veranstaltungen für bandliste-bremen.de
REFRESH-INTERVAL;VALUE=DURATION:PT1H
X-Robots-Tag:noindex
X-PUBLISHED-TTL:PT1H
BEGIN:VTIMEZONE
TZID:Europe/Berlin
BEGIN:DAYLIGHT
TZOFFSETFROM:+0100
TZOFFSETTO:+0200
TZNAME:CEST
DTSTART:20220327T010000
END:DAYLIGHT
BEGIN:STANDARD
TZOFFSETFROM:+0200
TZOFFSETTO:+0100
TZNAME:CET
DTSTART:20221030T010000
END:STANDARD
BEGIN:DAYLIGHT
TZOFFSETFROM:+0100
TZOFFSETTO:+0200
TZNAME:CEST
DTSTART:20230326T010000
END:DAYLIGHT
BEGIN:STANDARD
TZOFFSETFROM:+0200
TZOFFSETTO:+0100
TZNAME:CET
DTSTART:20231029T010000
END:STANDARD
BEGIN:DAYLIGHT
TZOFFSETFROM:+0100
TZOFFSETTO:+0200
TZNAME:CEST
DTSTART:20240331T010000
END:DAYLIGHT
BEGIN:STANDARD
TZOFFSETFROM:+0200
TZOFFSETTO:+0100
TZNAME:CET
DTSTART:20241027T010000
END:STANDARD
END:VTIMEZONE
BEGIN:VEVENT
DTSTART;TZID=Europe/Berlin:20230919T200000
DTEND;TZID=Europe/Berlin:20230919T220000
DTSTAMP:20260420T213353
CREATED:20230720T190957Z
LAST-MODIFIED:20230720T190957Z
UID:11612-1695153600-1695160800@bandliste-bremen.de
SUMMARY:Kolumne Fatal Band (Deutsch Pop & Rock) HB im Meisenfrei
DESCRIPTION:(20Uhr – Eintritt frei) \nMan sollte es in Betracht ziehen\, heute beim Clubbesuch ein Handtuch mitzunehmen. Denn die nicht immer ganz ernst gemeinten Songs dieser musizierenden Philanthropen können beim genauen Zuhören schon ein wenig schweißtreibend sein. Das deutschsprachige Trio bewegt sich musikalisch zwischen John Mayer\, Rory Gallagher\, Blumenfeld und den klassischen Deutsch/Rock/Poppern. Die Texte handeln von zu kurz gekommenen Trinkern\, jungen Eltern\, Träumern und in der Mittelschicht Gefangenen oder von „Großstadt Hektikern“ und „Mama Söhnchen“. Also von allem\, was der regelmäßige Gastronomie-Besucher zu schätzen weiß.
URL:https://bandliste-bremen.de/gig/kolumne-fatal-band-deutsch-pop-rock-hb-im-meisenfrei/
LOCATION:Meisenfrei Bluesclub Bremen\, Hankenstrasse 18\, Bremen\, Bremen\, 28195\, Deutschland
ATTACH;FMTTYPE=image/jpeg:https://bandliste-bremen.de/wp-content/uploads/2023/07/2023-09-19-KolumneFatalBand.jpg
END:VEVENT
END:VCALENDAR